BEGIN:VCALENDAR
VERSION:2.0
PRODID:-//kultur- und förderverein CASINO e.v. - ECPv6.15.16//NONSGML v1.0//EN
CALSCALE:GREGORIAN
METHOD:PUBLISH
X-ORIGINAL-URL:https://casinoverein.eu
X-WR-CALDESC:Veranstaltungen für kultur- und förderverein CASINO e.v.
REFRESH-INTERVAL;VALUE=DURATION:PT1H
X-Robots-Tag:noindex
X-PUBLISHED-TTL:PT1H
BEGIN:VTIMEZONE
TZID:Europe/Berlin
BEGIN:DAYLIGHT
TZOFFSETFROM:+0100
TZOFFSETTO:+0200
TZNAME:CEST
DTSTART:20250330T010000
END:DAYLIGHT
BEGIN:STANDARD
TZOFFSETFROM:+0200
TZOFFSETTO:+0100
TZNAME:CET
DTSTART:20251026T010000
END:STANDARD
BEGIN:DAYLIGHT
TZOFFSETFROM:+0100
TZOFFSETTO:+0200
TZNAME:CEST
DTSTART:20260329T010000
END:DAYLIGHT
BEGIN:STANDARD
TZOFFSETFROM:+0200
TZOFFSETTO:+0100
TZNAME:CET
DTSTART:20261025T010000
END:STANDARD
BEGIN:DAYLIGHT
TZOFFSETFROM:+0100
TZOFFSETTO:+0200
TZNAME:CEST
DTSTART:20270328T010000
END:DAYLIGHT
BEGIN:STANDARD
TZOFFSETFROM:+0200
TZOFFSETTO:+0100
TZNAME:CET
DTSTART:20271031T010000
END:STANDARD
END:VTIMEZONE
BEGIN:VEVENT
DTSTART;TZID=Europe/Berlin:20260321T200000
DTEND;TZID=Europe/Berlin:20260321T200000
DTSTAMP:20260424T134352
CREATED:20260126T101037Z
LAST-MODIFIED:20260126T101037Z
UID:1035-1774123200-1774123200@casinoverein.eu
SUMMARY:Männer von Flake
DESCRIPTION:Als im Spätsommer 1991 Joachim „Joga“ Waasem\, \nGeorg „Gege“ Zwingmann\, Jürgen „Schroeder“ Schroeder und Thomas „Eisen“ Kolvenbach den Entschluss fassten\, auf der  Silvester-Party ihrer Clique „nur so zum Spaß“ mal wieder gemeinsam abzurocken\, konnte noch  niemand ahnen\, welche Erfolgsstory sich daraus entwickeln würde.\nNachdem dann wenige Jahre später bei einer denkwürdigen Runde\, zu der man sich um ein Fass Bier versammelt hatte\, auch noch der eigenwillige\, aber einzig wahre Bandname gefunden worden war\, entwickelte sich endgültig eine Art Kult um die „Männer von Flake“.\nDie jung gebliebenen Herren haben bereits im zarten Teenageralter gemeinsam ihre ersten Gehversuche in Sachen Rockmusik gemacht. Nach einigen Jahren der Trennung\, in denen jeder für sich weitere Erfahrungen in verschiedenen Bands sammelte\, fand man musikalisch\nwieder zusammen und steht mittlerweile seit über 30Jahren gemeinsam auf der Bühne. Im Vordergrund steht bei den Flake-Männern die\nprofessionelle\, energiegeladene Umsetzung der Songs\, wobei hier der Grundsatz gilt\, „it’s absolutely live“!\nNicht weniger wichtig ist es dabei\, den Spaß an der Live-Performance auf das Publikum zu übertragen. Dabei werden ausschließlich Songs präsentiert\, die nach einstimmigem Bandbeschluss auf der Setliste landen.\nDas Programm kommt entsprechend rockig daher und beinhaltet sowohl Klassiker von Bands wie QUEEN\, AC/DC\, METALLICA\, ZZ TOP\, Billy Idol und DEEP PURPLE\,aber auch aktuell angesagte Songs der Gruppen FOOFIGHTERS\, RED HOT CHILLI PEPPERS oder KINGS OF LEON.\nHomepage: http://www.flake-maenner.de/ \nEinlass  19:00Uhr // Beginn 20:00 Uhr\nAchtung: unbestuhlt\, kein Sitzplatzanspruch \nVVK: 14\,00 € / 12\,00 €* // AK: 17\,00 € / 15\,00 €* \nTickets für die Veranstaltung erhältlich bei:\nSVE\, Ticket Regional und an karten@casinoverein.eu \n*Ermäßigung gilt für Mitglieder des Casino Verein \, SchülerInnen und StudentInnen
URL:https://casinoverein.eu/veranstaltung/maenner-von-flake-2/
LOCATION:Altes Casino\, Kaplan-Kellermann-Str. 1\, Euskirchen\, 53879\, Deutschland
END:VEVENT
END:VCALENDAR