BEGIN:VCALENDAR
VERSION:2.0
PRODID:-//kultur- und förderverein CASINO e.v. - ECPv6.15.16//NONSGML v1.0//EN
CALSCALE:GREGORIAN
METHOD:PUBLISH
X-WR-CALNAME:kultur- und förderverein CASINO e.v.
X-ORIGINAL-URL:https://casinoverein.eu
X-WR-CALDESC:Veranstaltungen für kultur- und förderverein CASINO e.v.
REFRESH-INTERVAL;VALUE=DURATION:PT1H
X-Robots-Tag:noindex
X-PUBLISHED-TTL:PT1H
BEGIN:VTIMEZONE
TZID:Europe/Berlin
BEGIN:DAYLIGHT
TZOFFSETFROM:+0100
TZOFFSETTO:+0200
TZNAME:CEST
DTSTART:20250330T010000
END:DAYLIGHT
BEGIN:STANDARD
TZOFFSETFROM:+0200
TZOFFSETTO:+0100
TZNAME:CET
DTSTART:20251026T010000
END:STANDARD
BEGIN:DAYLIGHT
TZOFFSETFROM:+0100
TZOFFSETTO:+0200
TZNAME:CEST
DTSTART:20260329T010000
END:DAYLIGHT
BEGIN:STANDARD
TZOFFSETFROM:+0200
TZOFFSETTO:+0100
TZNAME:CET
DTSTART:20261025T010000
END:STANDARD
BEGIN:DAYLIGHT
TZOFFSETFROM:+0100
TZOFFSETTO:+0200
TZNAME:CEST
DTSTART:20270328T010000
END:DAYLIGHT
BEGIN:STANDARD
TZOFFSETFROM:+0200
TZOFFSETTO:+0100
TZNAME:CET
DTSTART:20271031T010000
END:STANDARD
END:VTIMEZONE
BEGIN:VEVENT
DTSTART;TZID=Europe/Berlin:20260424T200000
DTEND;TZID=Europe/Berlin:20260424T220000
DTSTAMP:20260424T120226
CREATED:20260227T130724Z
LAST-MODIFIED:20260410T080716Z
UID:1228-1777060800-1777068000@casinoverein.eu
SUMMARY:Casino Kleinkunst (im Rahmen der Club-Konzerte 2026)
DESCRIPTION:Casino Kleinkunst – Ein Abend voller Bühne\, Worte und Musik \nCasino Kleinkunst steht für abwechslungsreiche Unterhaltung in besonderer Atmosphäre. \nOb Poetry\, Satire\, oder spontane Musikeinlage – hier trifft Wortkunst auf Lebensfreude. \nZU GAST: „Stuss mit Lustig – die Lesebühne“ ist Lachen mit Tiefgang\, Unsinn mit Niveau und Geschichten\, die das Leben (vielleicht) besser nicht schreiben könnte. Bekannt von der gleichnamigen Lesebühne\, bringen Julius Esser und die „Stusser“ (Gerd Engel\, Johannes Engel und Dierk Plücker am Piano) charmanten Wortwitz\, pointierte Alltagsbeobachtungen und eine gehörige Portion rheinischen Humor auf die Bühne. Dabei darf natürlich auch der namensgebende „Stuss“ nicht fehlen – klug verpackt\, scharf gewürzt und immer mit einem Augenzwinkern serviert. Mit dabei sind Gründer und Gäste der Lesebühne „Stuss mit Lustig“\, die das Publikum mit ihren eigenen Texten\, Anekdoten und absurden Einfällen begeistern. Gemeinsam entsteht ein Abend voller Überraschungen\, Lacher und Momente\, die noch lange nachhallen. \nEinlass: 19:00 Uhr \nBeginn: 20:00 Uhr \nEintritt frei – Der Hut geht rum! \nDie gesammte Summe wird an den guten Zweck gespandet!
URL:https://casinoverein.eu/veranstaltung/casino-kleinkunst/
LOCATION:Altes Casino\, Kaplan-Kellermann-Str. 1\, Euskirchen\, 53879\, Deutschland
END:VEVENT
END:VCALENDAR